BEGIN:VCALENDAR
VERSION:2.0
PRODID:-//SAPA-GP - ECPv6.15.20//NONSGML v1.0//EN
CALSCALE:GREGORIAN
METHOD:PUBLISH
X-WR-CALNAME:SAPA-GP
X-ORIGINAL-URL:https://sapagp.org
X-WR-CALDESC:Events for SAPA-GP
REFRESH-INTERVAL;VALUE=DURATION:PT1H
X-Robots-Tag:noindex
X-PUBLISHED-TTL:PT1H
BEGIN:VTIMEZONE
TZID:America/New_York
BEGIN:DAYLIGHT
TZOFFSETFROM:-0500
TZOFFSETTO:-0400
TZNAME:EDT
DTSTART:20250309T070000
END:DAYLIGHT
BEGIN:STANDARD
TZOFFSETFROM:-0400
TZOFFSETTO:-0500
TZNAME:EST
DTSTART:20251102T060000
END:STANDARD
BEGIN:DAYLIGHT
TZOFFSETFROM:-0500
TZOFFSETTO:-0400
TZNAME:EDT
DTSTART:20260308T070000
END:DAYLIGHT
BEGIN:STANDARD
TZOFFSETFROM:-0400
TZOFFSETTO:-0500
TZNAME:EST
DTSTART:20261101T060000
END:STANDARD
BEGIN:DAYLIGHT
TZOFFSETFROM:-0500
TZOFFSETTO:-0400
TZNAME:EDT
DTSTART:20270314T070000
END:DAYLIGHT
BEGIN:STANDARD
TZOFFSETFROM:-0400
TZOFFSETTO:-0500
TZNAME:EST
DTSTART:20271107T060000
END:STANDARD
END:VTIMEZONE
BEGIN:VEVENT
DTSTART;TZID=America/New_York:20260508T080000
DTEND;TZID=America/New_York:20260509T170000
DTSTAMP:20260423T082527
CREATED:20260112T013130Z
LAST-MODIFIED:20260127T025422Z
UID:6118-1778227200-1778346000@sapagp.org
SUMMARY:SAPA-GP 2026 Cell & Gene Therapy Annual Conference
DESCRIPTION:
URL:https://sapagp.org/event/sapa-gp-2026-cell-gene-therapy/
LOCATION:Sheraton Valley Forge Hotel\, 480 North Gulph Road\, King of Prussia\, PA\, 19406\, United States
CATEGORIES:AtPhilly,Event,In Person
ATTACH;FMTTYPE=image/jpeg:https://sapagp.org/wp-content/uploads/2026/01/sapa2026v5_1.jpg
ORGANIZER;CN="SAPA-GP":MAILTO:sapagp@sapa-gp.org
END:VEVENT
END:VCALENDAR