BEGIN:VCALENDAR
VERSION:2.0
PRODID:-//SAPA-GP - ECPv6.15.20//NONSGML v1.0//EN
CALSCALE:GREGORIAN
METHOD:PUBLISH
X-WR-CALNAME:SAPA-GP
X-ORIGINAL-URL:https://sapagp.org
X-WR-CALDESC:Events for SAPA-GP
REFRESH-INTERVAL;VALUE=DURATION:PT1H
X-Robots-Tag:noindex
X-PUBLISHED-TTL:PT1H
BEGIN:VTIMEZONE
TZID:America/New_York
BEGIN:DAYLIGHT
TZOFFSETFROM:-0500
TZOFFSETTO:-0400
TZNAME:EDT
DTSTART:20180311T070000
END:DAYLIGHT
BEGIN:STANDARD
TZOFFSETFROM:-0400
TZOFFSETTO:-0500
TZNAME:EST
DTSTART:20181104T060000
END:STANDARD
BEGIN:DAYLIGHT
TZOFFSETFROM:-0500
TZOFFSETTO:-0400
TZNAME:EDT
DTSTART:20190310T070000
END:DAYLIGHT
BEGIN:STANDARD
TZOFFSETFROM:-0400
TZOFFSETTO:-0500
TZNAME:EST
DTSTART:20191103T060000
END:STANDARD
BEGIN:DAYLIGHT
TZOFFSETFROM:-0500
TZOFFSETTO:-0400
TZNAME:EDT
DTSTART:20200308T070000
END:DAYLIGHT
BEGIN:STANDARD
TZOFFSETFROM:-0400
TZOFFSETTO:-0500
TZNAME:EST
DTSTART:20201101T060000
END:STANDARD
BEGIN:DAYLIGHT
TZOFFSETFROM:-0500
TZOFFSETTO:-0400
TZNAME:EDT
DTSTART:20210314T070000
END:DAYLIGHT
BEGIN:STANDARD
TZOFFSETFROM:-0400
TZOFFSETTO:-0500
TZNAME:EST
DTSTART:20211107T060000
END:STANDARD
BEGIN:DAYLIGHT
TZOFFSETFROM:-0500
TZOFFSETTO:-0400
TZNAME:EDT
DTSTART:20220313T070000
END:DAYLIGHT
BEGIN:STANDARD
TZOFFSETFROM:-0400
TZOFFSETTO:-0500
TZNAME:EST
DTSTART:20221106T060000
END:STANDARD
BEGIN:DAYLIGHT
TZOFFSETFROM:-0500
TZOFFSETTO:-0400
TZNAME:EDT
DTSTART:20230312T070000
END:DAYLIGHT
BEGIN:STANDARD
TZOFFSETFROM:-0400
TZOFFSETTO:-0500
TZNAME:EST
DTSTART:20231105T060000
END:STANDARD
BEGIN:DAYLIGHT
TZOFFSETFROM:-0500
TZOFFSETTO:-0400
TZNAME:EDT
DTSTART:20240310T070000
END:DAYLIGHT
BEGIN:STANDARD
TZOFFSETFROM:-0400
TZOFFSETTO:-0500
TZNAME:EST
DTSTART:20241103T060000
END:STANDARD
BEGIN:DAYLIGHT
TZOFFSETFROM:-0500
TZOFFSETTO:-0400
TZNAME:EDT
DTSTART:20250309T070000
END:DAYLIGHT
BEGIN:STANDARD
TZOFFSETFROM:-0400
TZOFFSETTO:-0500
TZNAME:EST
DTSTART:20251102T060000
END:STANDARD
BEGIN:DAYLIGHT
TZOFFSETFROM:-0500
TZOFFSETTO:-0400
TZNAME:EDT
DTSTART:20260308T070000
END:DAYLIGHT
BEGIN:STANDARD
TZOFFSETFROM:-0400
TZOFFSETTO:-0500
TZNAME:EST
DTSTART:20261101T060000
END:STANDARD
END:VTIMEZONE
BEGIN:VEVENT
DTSTART;TZID=America/New_York:20250627T080000
DTEND;TZID=America/New_York:20250628T170000
DTSTAMP:20260423T144212
CREATED:20240822T013743Z
LAST-MODIFIED:20250618T125524Z
UID:5108-1751011200-1751130000@sapagp.org
SUMMARY:SAPA-GP 2025 Cell & Gene Therapy
DESCRIPTION:Click Here for Registration and More InformationMobile App
URL:https://sapagp.org/event/sapa-gp-2025-cell-gene-therapy/
LOCATION:Sheraton Valley Forge Hotel\, 480 North Gulph Road\, King of Prussia\, PA\, 19406\, United States
CATEGORIES:AtPhilly,Event,In Person
ATTACH;FMTTYPE=image/png:https://sapagp.org/wp-content/uploads/2024/08/2025-cgt-feature-1.png
ORGANIZER;CN="SAPA-GP":MAILTO:sapagp@sapa-gp.org
END:VEVENT
BEGIN:VEVENT
DTSTART;VALUE=DATE:20230623
DTEND;VALUE=DATE:20230625
DTSTAMP:20260423T144212
CREATED:20230607T230200Z
LAST-MODIFIED:20230607T230200Z
UID:4537-1687478400-1687651199@sapagp.org
SUMMARY:2nd Annual SAPA-GP @Philly Cell Gene Therapy Conference
DESCRIPTION:REGISTER HERE
URL:https://sapagp.org/event/2nd-annual-sapa-gp-philly-cell-gene-therapy-conference/
LOCATION:Sheraton Valley Forge Hotel\, 480 North Gulph Road\, King of Prussia\, PA\, 19406\, United States
CATEGORIES:AtPhilly,Event,In Person
ATTACH;FMTTYPE=image/jpeg:https://sapagp.org/wp-content/uploads/2023/06/cgt_featuered.jpg
ORGANIZER;CN="SAPA-GP":MAILTO:sapagp@sapa-gp.org
END:VEVENT
BEGIN:VEVENT
DTSTART;TZID=America/New_York:20230517T180000
DTEND;TZID=America/New_York:20230517T203000
DTSTAMP:20260423T144212
CREATED:20230514T002908Z
LAST-MODIFIED:20230514T005959Z
UID:4465-1684346400-1684355400@sapagp.org
SUMMARY:@Philly Company Showcase & Networking Dinner
DESCRIPTION:
URL:https://sapagp.org/event/philly-company-showcase-networking-dinner/
LOCATION:Jin Ding Restaurant\, 1051 Conestoga Rd\, Bryn Mawr\, PA\, 19010\, United States
CATEGORIES:AtPhilly,Career Events,Event,In Person
ATTACH;FMTTYPE=image/jpeg:https://sapagp.org/wp-content/uploads/2023/05/pdf_20230510_095448_0000.jpg
ORGANIZER;CN="SAPA-GP":MAILTO:sapagp@sapa-gp.org
END:VEVENT
BEGIN:VEVENT
DTSTART;VALUE=DATE:20220617
DTEND;VALUE=DATE:20220619
DTSTAMP:20260423T144212
CREATED:20220428T020820Z
LAST-MODIFIED:20220911T023723Z
UID:3688-1655424000-1655596799@sapagp.org
SUMMARY:@Philly Cell & Gene Therapy Annual Conference 2022
DESCRIPTION:
URL:https://sapagp.org/event/philly-cell-gene-therapy-annual-conference-2022/
LOCATION:Sheraton Valley Forge Hotel\, 480 North Gulph Road\, King of Prussia\, PA\, 19406\, United States
CATEGORIES:AtPhilly,Event,In Person
ATTACH;FMTTYPE=image/png:https://sapagp.org/wp-content/uploads/2022/04/Screen-Shot-2022-04-16-at-08.29.05.png
ORGANIZER;CN="SAPA-GP":MAILTO:sapagp@sapa-gp.org
END:VEVENT
BEGIN:VEVENT
DTSTART;TZID=America/New_York:20191122T120000
DTEND;TZID=America/New_York:20191122T150000
DTSTAMP:20260423T144212
CREATED:20191228T203759Z
LAST-MODIFIED:20221201T193504Z
UID:2064-1574424000-1574434800@sapagp.org
SUMMARY:CAR-T: Transforming Blood Cancer Therapy
DESCRIPTION:CAR-T therapy development has achieved big success over the past years with regulatory approval by the FDA for blood cancer treatment. In this workshop\, experts from the industry will be assembled to discuss the development and implementation of this therapy. Their topics will cover several key aspects of the CAR-T industry chain\, from discovery\, manufacture to commercialization. \nRegister Now[/fusion_code] \nSpeaker 1: Allison Montalvo\, Executive Director\, Head of Project Management and Clinical Supply\, Tmunity Therapeutics\nTopic: CAR-T CMC management: how to streamline drug development\, manufacturing and logistics (Tentative)\nSpeaker 2: Fang Chen\, Senior Research Investigator\, Center for Cellular Immunotherapies (CCI)\, University of Pennsylvania\nTopic: Engineered T Cell Therapies From a Drug Development Viewpoint\nSpeaker 3: Teng Peng\, Application Support Manager\, ACROBiosystems\nTopic: The Applications of ACROBiosystem’s Products in CAR-T Cell Therapeutics\nSpeaker 4: Levi Gray-Rupp\, Associate Director\, CAR-T/iPSC\, Janssen\nTopic: Leveraging synthetic biology to enhance CAR-T safety and efficacy\n \nRegister Now[/fusion_code] \nSpeaker 1: Allison Montalvo\, Executive Director\, Head of Project Management and Clinical Supply\, Tmunity Therapeutics\nTopic: CAR-T CMC management: how to streamline drug development\, manufacturing and logistics (Tentative)\nSpeaker 2: Fang Chen\, Senior Research Investigator\, Center for Cellular Immunotherapies (CCI)\, University of Pennsylvania\nTopic: Engineered T Cell Therapies From a Drug Development Viewpoint\nSpeaker 3: Teng Peng\, Application Support Manager\, ACROBiosystems\nTopic: The Applications of ACROBiosystem’s Products in CAR-T Cell Therapeutics\nSpeaker 4: Levi Gray-Rupp\, Associate Director\, CAR-T/iPSC\, Janssen\nTopic: Leveraging synthetic biology to enhance CAR-T safety and efficacy\n \nRegister Now[/fusion_code] \nSpeaker 1: Allison Montalvo\, Executive Director\, Head of Project Management and Clinical Supply\, Tmunity Therapeutics\nTopic: CAR-T CMC management: how to streamline drug development\, manufacturing and logistics (Tentative)\nSpeaker 2: Fang Chen\, Senior Research Investigator\, Center for Cellular Immunotherapies (CCI)\, University of Pennsylvania\nTopic: Engineered T Cell Therapies From a Drug Development Viewpoint\nSpeaker 3: Teng Peng\, Application Support Manager\, ACROBiosystems\nTopic: The Applications of ACROBiosystem’s Products in CAR-T Cell Therapeutics\nSpeaker 4: Levi Gray-Rupp\, Associate Director\, CAR-T/iPSC\, Janssen\nTopic: Leveraging synthetic biology to enhance CAR-T safety and efficacy
URL:https://sapagp.org/event/car-t-transforming-blood-cancer-therapy/
LOCATION:University City Science Center\, 3675 Market St.\, Delaware River Room\, 3rd floor\, Philadelphia\, PA\, United States
CATEGORIES:AtPhilly
ATTACH;FMTTYPE=image/jpeg:https://sapagp.org/wp-content/uploads/2019/12/cart-1200x732-1.jpg
ORGANIZER;CN="SAPA-GP":MAILTO:sapagp@sapa-gp.org
END:VEVENT
END:VCALENDAR