BEGIN:VCALENDAR
VERSION:2.0
PRODID:-//SAPA-GP - ECPv6.15.20//NONSGML v1.0//EN
CALSCALE:GREGORIAN
METHOD:PUBLISH
X-ORIGINAL-URL:https://sapagp.org
X-WR-CALDESC:Events for SAPA-GP
REFRESH-INTERVAL;VALUE=DURATION:PT1H
X-Robots-Tag:noindex
X-PUBLISHED-TTL:PT1H
BEGIN:VTIMEZONE
TZID:America/New_York
BEGIN:DAYLIGHT
TZOFFSETFROM:-0500
TZOFFSETTO:-0400
TZNAME:EDT
DTSTART:20190310T070000
END:DAYLIGHT
BEGIN:STANDARD
TZOFFSETFROM:-0400
TZOFFSETTO:-0500
TZNAME:EST
DTSTART:20191103T060000
END:STANDARD
BEGIN:DAYLIGHT
TZOFFSETFROM:-0500
TZOFFSETTO:-0400
TZNAME:EDT
DTSTART:20200308T070000
END:DAYLIGHT
BEGIN:STANDARD
TZOFFSETFROM:-0400
TZOFFSETTO:-0500
TZNAME:EST
DTSTART:20201101T060000
END:STANDARD
BEGIN:DAYLIGHT
TZOFFSETFROM:-0500
TZOFFSETTO:-0400
TZNAME:EDT
DTSTART:20210314T070000
END:DAYLIGHT
BEGIN:STANDARD
TZOFFSETFROM:-0400
TZOFFSETTO:-0500
TZNAME:EST
DTSTART:20211107T060000
END:STANDARD
BEGIN:DAYLIGHT
TZOFFSETFROM:-0500
TZOFFSETTO:-0400
TZNAME:EDT
DTSTART:20220313T070000
END:DAYLIGHT
BEGIN:STANDARD
TZOFFSETFROM:-0400
TZOFFSETTO:-0500
TZNAME:EST
DTSTART:20221106T060000
END:STANDARD
BEGIN:DAYLIGHT
TZOFFSETFROM:-0500
TZOFFSETTO:-0400
TZNAME:EDT
DTSTART:20230312T070000
END:DAYLIGHT
BEGIN:STANDARD
TZOFFSETFROM:-0400
TZOFFSETTO:-0500
TZNAME:EST
DTSTART:20231105T060000
END:STANDARD
BEGIN:DAYLIGHT
TZOFFSETFROM:-0500
TZOFFSETTO:-0400
TZNAME:EDT
DTSTART:20240310T070000
END:DAYLIGHT
BEGIN:STANDARD
TZOFFSETFROM:-0400
TZOFFSETTO:-0500
TZNAME:EST
DTSTART:20241103T060000
END:STANDARD
END:VTIMEZONE
BEGIN:VEVENT
DTSTART;TZID=America/New_York:20230517T180000
DTEND;TZID=America/New_York:20230517T203000
DTSTAMP:20260423T144654
CREATED:20230514T002908Z
LAST-MODIFIED:20230514T005959Z
UID:4465-1684346400-1684355400@sapagp.org
SUMMARY:@Philly Company Showcase & Networking Dinner
DESCRIPTION:
URL:https://sapagp.org/event/philly-company-showcase-networking-dinner/
LOCATION:Jin Ding Restaurant\, 1051 Conestoga Rd\, Bryn Mawr\, PA\, 19010\, United States
CATEGORIES:AtPhilly,Career Events,Event,In Person
ATTACH;FMTTYPE=image/jpeg:https://sapagp.org/wp-content/uploads/2023/05/pdf_20230510_095448_0000.jpg
ORGANIZER;CN="SAPA-GP":MAILTO:sapagp@sapa-gp.org
END:VEVENT
BEGIN:VEVENT
DTSTART;TZID=America/New_York:20221209T090000
DTEND;TZID=America/New_York:20221209T153000
DTSTAMP:20260423T144654
CREATED:20221201T171457Z
LAST-MODIFIED:20221201T173243Z
UID:4104-1670576400-1670599800@sapagp.org
SUMMARY:SAPA-GP Career Development Workshop
DESCRIPTION:Ignite Your Career GrowthWhat are your career goals for 2023? \n\nGet promoted?\nChange to a different role?\nBe more effective in your current role?\nMove from a technical to business role?\n\nIf so\, this Career Development Workshop is for YOU! \nCome learn and build your network \nREGISTER HERE!FEATURED SPEAKERSDavid CraginSenior Director\, Product ScienceTeva PharmaceuticalsCheryl PaesVP\, Head of MarketingCenter for Breakthrough MedicinesJing YangCo-founder & Board DirectorBaseCure TherapeuticsJamie HuangFounderPrinceton Leadership AcademyJoe LingleChief People OfficerCenter for Breakthrough MedicinesPan PanDirector of Business DevelopmentAkeso\, Inc.Audrey GreenbergCo-Founder & Chief Business OfficerCenter for Breakthrough MedicinesAgenda8:30am – 9:00am \n9:00am – 9:30am \nRegistration \nOpening remark & Keys to On-line and In-person networking \nDavid Cragin \nSenior Director\, Product Science \nTeva Pharmaceuticals \n9:30am – 10:00am \nTopic 1: The secrets of HR \nJoe Lingle \nChief People Officer \nCenter for Breakthrough Medicines \n10:00am – 10:30am \n1030am – 11:00am \nNetworking Break I \nTopic 2: Take a Chance on Unexpected Opportunities \nJing Yang \nCo-founder & Board Director \nBaseCure Therapeutics \n11:00am – 11:30am \nPanel Discussion \nAudrey Greenberg \nCo-Founder and Chief Business Officer \nCenter for Breakthrough Medicines \nJing Yang \nCo-founder & Board Director \nBaseCure Therapeutics \n11:30am – 1:00pm \n1:00pm – 1:40pm \nLunch Break \nTopic 3: Getting off the Sticky Floor \nJamie Huang \nFounder \nPrinceton Leadership Academy \n1:40pm – 2:00pm \n2:00pm – 2:40pm \nNetworking Break II \nTopic 4: A Path from R&D to Business Development \nPan Pan \nDirector of Business Dvelopment \nAkeso\, Inc \n2:40pm – 3:10pm \nPanel Discussion \nCheryl Paes \nVP\, Head of Marketing \nCenter for Breakthrough Medicines \nPan Pan \nDirector of Business Development \nAkeso\, Inc. \nScan QR code for registration\, or follow this registration link: \nhttps://www.eventbrite.com/e/sapa-gp-2022-career-development-workshop-igniting-your-career-growth-tickets-467770322627
URL:https://sapagp.org/event/sapa-gp-career-development-workshop/
LOCATION:The Center for Breakthrough Medicines\, 411 Swedeland Road\, #100\, King of Prussia\, PA\, 19406\, United States
CATEGORIES:Career Events,Event,In Person,Webex Meeting
ATTACH;FMTTYPE=image/png:https://sapagp.org/wp-content/uploads/2022/12/featured.png
ORGANIZER;CN="SAPA-GP":MAILTO:sapagp@sapa-gp.org
END:VEVENT
BEGIN:VEVENT
DTSTART;TZID=America/New_York:20220524T200000
DTEND;TZID=America/New_York:20220524T213000
DTSTAMP:20260423T144654
CREATED:20220511T191641Z
LAST-MODIFIED:20220911T022309Z
UID:3816-1653422400-1653427800@sapagp.org
SUMMARY:Finding your Pathway to Success - Career meeting
DESCRIPTION:Register Here
URL:https://sapagp.org/event/finding-your-pathway-to-success-career-meeting/
LOCATION:PA
CATEGORIES:Career Events,Event,Webex Meeting
END:VEVENT
BEGIN:VEVENT
DTSTART;TZID=America/New_York:20220216T200000
DTEND;TZID=America/New_York:20220216T213000
DTSTAMP:20260423T144654
CREATED:20220203T214246Z
LAST-MODIFIED:20220911T024014Z
UID:3605-1645041600-1645047000@sapagp.org
SUMMARY:Create a High Impact First Impression!
DESCRIPTION:Register Here
URL:https://sapagp.org/event/create-a-high-impact-first-impression/
LOCATION:PA
CATEGORIES:Career Events,Webex Meeting
ORGANIZER;CN="SAPA-GP":MAILTO:sapagp@sapa-gp.org
END:VEVENT
BEGIN:VEVENT
DTSTART;TZID=America/New_York:20210616T200000
DTEND;TZID=America/New_York:20210616T210000
DTSTAMP:20260423T144654
CREATED:20210523T001848Z
LAST-MODIFIED:20221201T192640Z
UID:3469-1623873600-1623877200@sapagp.org
SUMMARY:Project Management and Beyond -- What you need to know
DESCRIPTION:Register Here
URL:https://sapagp.org/event/project-management-and-beyond-what-you-need-to-know/
LOCATION:PA
CATEGORIES:Career Events,Webex Meeting
ATTACH;FMTTYPE=image/png:https://sapagp.org/wp-content/uploads/2021/05/Screen-Shot-2021-05-22-at-17.29.34-PM-e1621729108251.png
ORGANIZER;CN="SAPA-GP":MAILTO:sapagp@sapa-gp.org
END:VEVENT
BEGIN:VEVENT
DTSTART;TZID=America/New_York:20210531T200000
DTEND;TZID=America/New_York:20210531T200000
DTSTAMP:20260423T144654
CREATED:20210518T131519Z
LAST-MODIFIED:20221201T192650Z
UID:3464-1622491200-1622491200@sapagp.org
SUMMARY:Improve Your Presentations with Stress and Intonation
DESCRIPTION:Register Here
URL:https://sapagp.org/event/improve-your-presentations-with-stress-and-intonation/
LOCATION:PA
CATEGORIES:Career Events,Webex Meeting
ATTACH;FMTTYPE=image/png:https://sapagp.org/wp-content/uploads/2021/05/20210531-SAPAGP-Flyer-e1621343697926.png
ORGANIZER;CN="SAPA-GP":MAILTO:sapagp@sapa-gp.org
END:VEVENT
BEGIN:VEVENT
DTSTART;TZID=America/New_York:20210428T200000
DTEND;TZID=America/New_York:20210428T210000
DTSTAMP:20260423T144654
CREATED:20210410T113545Z
LAST-MODIFIED:20221201T192700Z
UID:3446-1619640000-1619643600@sapagp.org
SUMMARY:Demystifying Life Sciences Business Development in the COVID Era
DESCRIPTION:Register Here  \nTopics including\, but not limited to: \n\nprocess around BD inside your organization\nyour role specifically\nBD best practices\nPost-COVID BD\nCareer advice for scientists interested in BD\n\n  \nSpeaker Info: \n\nJean-Sebastien (JS) Cleiftie\, CBO of Erytech Pharma (former Assoc. VP of Sanofi) (Linkedin)\nYelena Wetherill\, Director\, Alliance Management\, Business Development & Licensing at Novartis Institutes for BioMedical Research (NIBR) (Linkedin)\nDan Zheng\, Director for Global Transactions at Sanofi Partnering (Linkedin)\nAmy Jia Wang\, Director\, External R&D (Search & Evaluation) at Horizon (Linkedin)\nSally (Yuanheng) Wang Liang JD MPH\, VP of Business Development @ PepLib (Linkedin)\n\n(Sally will be the moderator and speaker) \n 
URL:https://sapagp.org/event/demystifying-life-sciences-business-development-in-the-covid-era/
LOCATION:PA
CATEGORIES:Career Events,Webex Meeting
ATTACH;FMTTYPE=image/png:https://sapagp.org/wp-content/uploads/2021/04/Screen-Shot-2021-04-09-at-23.54.31-PM-1-e1618054497276.png
ORGANIZER;CN="SAPA-GP":MAILTO:sapagp@sapa-gp.org
END:VEVENT
BEGIN:VEVENT
DTSTART;TZID=America/New_York:20210331T200000
DTEND;TZID=America/New_York:20210331T210000
DTSTAMP:20260423T144654
CREATED:20210311T191209Z
LAST-MODIFIED:20221201T192711Z
UID:3428-1617220800-1617224400@sapagp.org
SUMMARY:High Impact Communication Skills
DESCRIPTION:How do you make your talks memorable?\nCan technical talks be made readily understandable?\nWhat are techniques for giving presentations with strong impact?\n\nIf you want answers to these questions and have a chance to network with colleagues\, attend SAPA GP’s career webinar.  We will use Zoom meetings to allow for more opportunities for networking.\n\nSpeakers:\nDavid Cragin\, PhD\, DABT\, Director Global Product Quality Complaint Operations\, Merck & Co\n\nSara Gao\,\n– Program director\, Wharton Executive education\n– Instructor of global village for future leaders of business and industry program\, Lehigh University\n\n\nBrought to you by\nSinoAmerican Pharmaceutical Association Greater Philadelphia\nCareer and Mentoring Group\nRegister HereView Recordings\nSorry\, your browser doesn't support embedded videos.
URL:https://sapagp.org/event/high-impact-communication-skills/
LOCATION:PA
CATEGORIES:Career Events,Webex Meeting
ATTACH;FMTTYPE=image/png:https://sapagp.org/wp-content/uploads/2021/03/Screen-Shot-2021-03-15-at-21.17.03-PM.png
ORGANIZER;CN="SAPA-GP":MAILTO:sapagp@sapa-gp.org
END:VEVENT
BEGIN:VEVENT
DTSTART;TZID=America/New_York:20201111T200000
DTEND;TZID=America/New_York:20201111T210000
DTSTAMP:20260423T144654
CREATED:20201013T001500Z
LAST-MODIFIED:20221201T192751Z
UID:3305-1605124800-1605128400@sapagp.org
SUMMARY:Negotiation\, Influence\, and Conflict Resolution in the Office
DESCRIPTION:Speaker:\n1. Dianne Hart\, SHRM-SCP\, DDI\, Global Vice President/Chief Human Resources Officer\, IPS-Integrated Services \n2. David Cragin\, PhD\, DABT\, Director Global Complaint Management and External Affairs\, Merck & Co. \n3. Yangzhou Li\, PharmD\, Medical Writer\, Legend Biotech USA\, Inc. \nRegister Here
URL:https://sapagp.org/event/negotiation-influence-and-conflict-resolution-in-the-office/
LOCATION:PA
CATEGORIES:Career Events,Webex Meeting
ATTACH;FMTTYPE=image/png:https://sapagp.org/wp-content/uploads/2020/10/Nov-11-flyer-SAPA-GP.png
ORGANIZER;CN="SAPA-GP":MAILTO:sapagp@sapa-gp.org
END:VEVENT
BEGIN:VEVENT
DTSTART;TZID=America/New_York:20201014T200000
DTEND;TZID=America/New_York:20201014T213000
DTSTAMP:20260423T144654
CREATED:20201009T005503Z
LAST-MODIFIED:20221201T192940Z
UID:3296-1602705600-1602711000@sapagp.org
SUMMARY:Health Economics Outcome Research:  Value Evidence Generation for Life Sciences
DESCRIPTION:Speakers：\n– Lixia Yao\, PhD\, Director Real-world Data Analytics and Innovation\, Merck & Co.\n– Chang Xu\, MS\, Manager Janssen Scientific Affairs\n– Jingyi Qi\, MPH\, Associate Decision Support Analyst\, Gateway Health\n– Yulan Zhang\, MS\, Associate\, HEOR KMK Consulting Inc.\n– Candice Zhi\, Tsinghua University School of Economics and Management\n\nHighlights:\nHealth Economic Outcome Research (HEOR)\, Real Word Evidence and Market Access are rapidly growing fields worldwide\n– Learn about how these techniques are being used to give patients access to medicines\n– Understand the US and China’s approaches to these fields\nRegister Here
URL:https://sapagp.org/event/health-economics-outcome-research-value-evidence-generation-for-life-sciences/
LOCATION:PA
CATEGORIES:Career Events,Webex Meeting
ATTACH;FMTTYPE=image/jpeg:https://sapagp.org/wp-content/uploads/2020/10/unnamed-1.jpg
ORGANIZER;CN="SAPA-GP":MAILTO:sapagp@sapa-gp.org
END:VEVENT
BEGIN:VEVENT
DTSTART;TZID=America/New_York:20200910T200000
DTEND;TZID=America/New_York:20200910T210000
DTSTAMP:20260423T144654
CREATED:20200730T124257Z
LAST-MODIFIED:20221201T193021Z
UID:2780-1599768000-1599771600@sapagp.org
SUMMARY:Control Your Own Destiny
DESCRIPTION:Register hereAbout this Event\n\n\nZoom meeting information will be sent to your email address after registration. \nSpeaker:\nCynthia Cai\, M Eng\, MBA\, PhD \nPresident\,Tharton Consulting & Senior Advisor for Northern Light Capital
URL:https://sapagp.org/event/control-your-own-destiny/
LOCATION:PA
CATEGORIES:Career Events,Webex Meeting
ATTACH;FMTTYPE=image/png:https://sapagp.org/wp-content/uploads/2020/07/Screen-Shot-2020-08-02-at-11.00.50-1-e1596466196687.png
END:VEVENT
BEGIN:VEVENT
DTSTART;TZID=America/New_York:20200805T200000
DTEND;TZID=America/New_York:20200805T210000
DTSTAMP:20260423T144654
CREATED:20200614T210512Z
LAST-MODIFIED:20221201T193051Z
UID:2631-1596657600-1596661200@sapagp.org
SUMMARY:Career workshop: Accent reduction
DESCRIPTION:Career Workshop: Accent Reduction for Chinese Speakers: How to Speak with Clarity\, Cadence and Confidence \nSpeaker: Lauren Supraner\, President\, CAL Learning\, Accent Reduction and Intercultural Communication Expert; Author: Accent Reduction for Chinese Speakers; Leadership communication coach; Intercultural communication professional \nRegister HereSponsor
URL:https://sapagp.org/event/career-workshop-accent-reduction/
LOCATION:PA
CATEGORIES:Career Events,Webex Meeting
ATTACH;FMTTYPE=image/png:https://sapagp.org/wp-content/uploads/2020/06/Lauren-Supraner-e1592168688704.png
ORGANIZER;CN="SAPA-GP":MAILTO:sapagp@sapa-gp.org
END:VEVENT
BEGIN:VEVENT
DTSTART;TZID=America/New_York:20200709T200000
DTEND;TZID=America/New_York:20200709T210000
DTSTAMP:20260423T144654
CREATED:20200614T210104Z
LAST-MODIFIED:20221201T193118Z
UID:2627-1594324800-1594328400@sapagp.org
SUMMARY:Secret to success: building one meaningful relationship at a time
DESCRIPTION:Career workshop: Secret to success: building one meaningful relationship at a time \nSpeaker: Sara Gao\, program director\, Wharton executive education; instructor of global village for future leaders of business and industry program\, Lehigh University \nNo one can succeed alone. Ask anyone who achieved anything in life\, they will tell you somewhere along the way\, they were mentored\, encouraged\, inspired or lifted towards their success. From finding a potential customer to landing a dream job\, from partnering with a new colleague to leading an effective team\, relationship building is the secret to success. It is also a critical skill that we do not necessarily learn in school. In this interactive session\, we are going to explore some of the best practices in building meaningful relationships\, especially how we can pivot in our new reality. Come prepared with your audio and video on\, you will have an opportunity to practice live in virtual breakout rooms. \nSpeaker: Born in China\, educated in Europe\, Sara Gao has worked in Europe\, Asia\, and the USA as a talent development expert over the past 16 years. Sara currently works as program director at Wharton Executive Education. Her passion is to bring senior leaders from various industries around the world to a life changing learning experience\, so they are ready to create positive impacts for a better world. As a career coach\, Sara specializes on coaching Asian professionals to become successful leaders in a multicultural environment. \nRegister HereSponsored by\nView Recordings\nPart 1 \nSorry\, your browser doesn't support embedded videos.Part 2 \nSorry\, your browser doesn't support embedded videos.
URL:https://sapagp.org/event/secret-to-success-building-one-meaningful-relationship-at-a-time/
LOCATION:PA
CATEGORIES:Career Events,Webex Meeting
ATTACH;FMTTYPE=image/png:https://sapagp.org/wp-content/uploads/2020/06/Sara-Gao-e1592168390975.png
ORGANIZER;CN="SAPA-GP":MAILTO:sapagp@sapa-gp.org
END:VEVENT
BEGIN:VEVENT
DTSTART;TZID=America/New_York:20200514T200000
DTEND;TZID=America/New_York:20200514T213000
DTSTAMP:20260423T144654
CREATED:20200504T001831Z
LAST-MODIFIED:20221201T193147Z
UID:2523-1589486400-1589491800@sapagp.org
SUMMARY:Learn from an expert:  Interviewing tips YOU need to know!
DESCRIPTION:What do you need to know about phone\, video\, and in-person interviews? What do you need to do to prepare for interviews? Learn from an expert: Interviewing tips YOU need to know! \nRegister HereSpeaker: \nDennis M. Gross\, M.S.\, Ph.D. \nDr. Gross has extensive experience in industry and academia. He received his Ph.D. in Cell Biology from the University of California\, Los Angeles. He did his postdoctoral training at Tulane University School of Medicine before joining the Merck Research Labs where he worked for 29 years retiring as Senior Director. He also serves as a Professor or Adjunct Professor at three universities and is the CEO of the Pennsylvania Drug Discovery Institute. In his talk\, he will offer some of the key things to be aware of when preparing for interviews. \nView Recordings \nSorry\, your browser doesn't support embedded videos.
URL:https://sapagp.org/event/learn-from-an-expert-interviewing-tips-you-need-to-know/
LOCATION:PA
CATEGORIES:Career Events,Webex Meeting
ATTACH;FMTTYPE=image/jpeg:https://sapagp.org/wp-content/uploads/2020/05/online-video-call-interview-vector.jpg
ORGANIZER;CN="SAPA-GP":MAILTO:sapagp@sapa-gp.org
END:VEVENT
END:VCALENDAR