BEGIN:VCALENDAR
VERSION:2.0
PRODID:-//SAPA-GP - ECPv6.15.20//NONSGML v1.0//EN
CALSCALE:GREGORIAN
METHOD:PUBLISH
X-ORIGINAL-URL:https://sapagp.org
X-WR-CALDESC:Events for SAPA-GP
REFRESH-INTERVAL;VALUE=DURATION:PT1H
X-Robots-Tag:noindex
X-PUBLISHED-TTL:PT1H
BEGIN:VTIMEZONE
TZID:America/New_York
BEGIN:DAYLIGHT
TZOFFSETFROM:-0500
TZOFFSETTO:-0400
TZNAME:EDT
DTSTART:20190310T070000
END:DAYLIGHT
BEGIN:STANDARD
TZOFFSETFROM:-0400
TZOFFSETTO:-0500
TZNAME:EST
DTSTART:20191103T060000
END:STANDARD
BEGIN:DAYLIGHT
TZOFFSETFROM:-0500
TZOFFSETTO:-0400
TZNAME:EDT
DTSTART:20200308T070000
END:DAYLIGHT
BEGIN:STANDARD
TZOFFSETFROM:-0400
TZOFFSETTO:-0500
TZNAME:EST
DTSTART:20201101T060000
END:STANDARD
BEGIN:DAYLIGHT
TZOFFSETFROM:-0500
TZOFFSETTO:-0400
TZNAME:EDT
DTSTART:20210314T070000
END:DAYLIGHT
BEGIN:STANDARD
TZOFFSETFROM:-0400
TZOFFSETTO:-0500
TZNAME:EST
DTSTART:20211107T060000
END:STANDARD
END:VTIMEZONE
BEGIN:VEVENT
DTSTART;TZID=America/New_York:20200910T200000
DTEND;TZID=America/New_York:20200910T210000
DTSTAMP:20260423T164455
CREATED:20200730T124257Z
LAST-MODIFIED:20221201T193021Z
UID:2780-1599768000-1599771600@sapagp.org
SUMMARY:Control Your Own Destiny
DESCRIPTION:Register hereAbout this Event\n\n\nZoom meeting information will be sent to your email address after registration. \nSpeaker:\nCynthia Cai\, M Eng\, MBA\, PhD \nPresident\,Tharton Consulting & Senior Advisor for Northern Light Capital
URL:https://sapagp.org/event/control-your-own-destiny/
CATEGORIES:Career Events,Webex Meeting
ATTACH;FMTTYPE=image/png:https://sapagp.org/wp-content/uploads/2020/07/Screen-Shot-2020-08-02-at-11.00.50-1-e1596466196687.png
END:VEVENT
BEGIN:VEVENT
DTSTART;TZID=America/New_York:20200805T200000
DTEND;TZID=America/New_York:20200805T210000
DTSTAMP:20260423T164456
CREATED:20200614T210512Z
LAST-MODIFIED:20221201T193051Z
UID:2631-1596657600-1596661200@sapagp.org
SUMMARY:Career workshop: Accent reduction
DESCRIPTION:Career Workshop: Accent Reduction for Chinese Speakers: How to Speak with Clarity\, Cadence and Confidence \nSpeaker: Lauren Supraner\, President\, CAL Learning\, Accent Reduction and Intercultural Communication Expert; Author: Accent Reduction for Chinese Speakers; Leadership communication coach; Intercultural communication professional \nRegister HereSponsor
URL:https://sapagp.org/event/career-workshop-accent-reduction/
CATEGORIES:Career Events,Webex Meeting
ATTACH;FMTTYPE=image/png:https://sapagp.org/wp-content/uploads/2020/06/Lauren-Supraner-e1592168688704.png
ORGANIZER;CN="SAPA-GP":MAILTO:sapagp@sapa-gp.org
END:VEVENT
BEGIN:VEVENT
DTSTART;TZID=America/New_York:20200709T200000
DTEND;TZID=America/New_York:20200709T210000
DTSTAMP:20260423T164456
CREATED:20200614T210104Z
LAST-MODIFIED:20221201T193118Z
UID:2627-1594324800-1594328400@sapagp.org
SUMMARY:Secret to success: building one meaningful relationship at a time
DESCRIPTION:Career workshop: Secret to success: building one meaningful relationship at a time \nSpeaker: Sara Gao\, program director\, Wharton executive education; instructor of global village for future leaders of business and industry program\, Lehigh University \nNo one can succeed alone. Ask anyone who achieved anything in life\, they will tell you somewhere along the way\, they were mentored\, encouraged\, inspired or lifted towards their success. From finding a potential customer to landing a dream job\, from partnering with a new colleague to leading an effective team\, relationship building is the secret to success. It is also a critical skill that we do not necessarily learn in school. In this interactive session\, we are going to explore some of the best practices in building meaningful relationships\, especially how we can pivot in our new reality. Come prepared with your audio and video on\, you will have an opportunity to practice live in virtual breakout rooms. \nSpeaker: Born in China\, educated in Europe\, Sara Gao has worked in Europe\, Asia\, and the USA as a talent development expert over the past 16 years. Sara currently works as program director at Wharton Executive Education. Her passion is to bring senior leaders from various industries around the world to a life changing learning experience\, so they are ready to create positive impacts for a better world. As a career coach\, Sara specializes on coaching Asian professionals to become successful leaders in a multicultural environment. \nRegister HereSponsored by\nView Recordings\nPart 1 \nSorry\, your browser doesn't support embedded videos.Part 2 \nSorry\, your browser doesn't support embedded videos.
URL:https://sapagp.org/event/secret-to-success-building-one-meaningful-relationship-at-a-time/
CATEGORIES:Career Events,Webex Meeting
ATTACH;FMTTYPE=image/png:https://sapagp.org/wp-content/uploads/2020/06/Sara-Gao-e1592168390975.png
ORGANIZER;CN="SAPA-GP":MAILTO:sapagp@sapa-gp.org
END:VEVENT
BEGIN:VEVENT
DTSTART;TZID=America/New_York:20200514T200000
DTEND;TZID=America/New_York:20200514T213000
DTSTAMP:20260423T164456
CREATED:20200504T001831Z
LAST-MODIFIED:20221201T193147Z
UID:2523-1589486400-1589491800@sapagp.org
SUMMARY:Learn from an expert:  Interviewing tips YOU need to know!
DESCRIPTION:What do you need to know about phone\, video\, and in-person interviews? What do you need to do to prepare for interviews? Learn from an expert: Interviewing tips YOU need to know! \nRegister HereSpeaker: \nDennis M. Gross\, M.S.\, Ph.D. \nDr. Gross has extensive experience in industry and academia. He received his Ph.D. in Cell Biology from the University of California\, Los Angeles. He did his postdoctoral training at Tulane University School of Medicine before joining the Merck Research Labs where he worked for 29 years retiring as Senior Director. He also serves as a Professor or Adjunct Professor at three universities and is the CEO of the Pennsylvania Drug Discovery Institute. In his talk\, he will offer some of the key things to be aware of when preparing for interviews. \nView Recordings \nSorry\, your browser doesn't support embedded videos.
URL:https://sapagp.org/event/learn-from-an-expert-interviewing-tips-you-need-to-know/
CATEGORIES:Career Events,Webex Meeting
ATTACH;FMTTYPE=image/jpeg:https://sapagp.org/wp-content/uploads/2020/05/online-video-call-interview-vector.jpg
ORGANIZER;CN="SAPA-GP":MAILTO:sapagp@sapa-gp.org
END:VEVENT
END:VCALENDAR